BEGIN:VCALENDAR
VERSION:2.0
PRODID:-//Talk Media - ECPv6.15.20//NONSGML v1.0//EN
CALSCALE:GREGORIAN
METHOD:PUBLISH
X-ORIGINAL-URL:https://talkmedia.co
X-WR-CALDESC:Events for Talk Media
REFRESH-INTERVAL;VALUE=DURATION:PT1H
X-Robots-Tag:noindex
X-PUBLISHED-TTL:PT1H
BEGIN:VTIMEZONE
TZID:UTC
BEGIN:STANDARD
TZOFFSETFROM:+0000
TZOFFSETTO:+0000
TZNAME:UTC
DTSTART:20130101T000000
END:STANDARD
END:VTIMEZONE
BEGIN:VEVENT
DTSTART;TZID=UTC:20161109T103000
DTEND;TZID=UTC:20161109T233000
DTSTAMP:20260424T205609
CREATED:20161101T144931Z
LAST-MODIFIED:20210227T075853Z
UID:396-1478687400-1478734200@talkmedia.co
SUMMARY:New Social Media Tips for Autumn 2016
DESCRIPTION:We’re excited to be back in Mukilteo networking and speaking to their group! We receive a lot of questions about social media marketing best practices and looking forward to sharing this information with you! \nEver wonder what social media sites you should be on? \nWhat tools are available? \nAnd what’s new in social media marketing? \nIn this interactive presentation\, you’ll learn the latest social media tips PLUS have the opportunity to get your questions answered. Join us! \nThe Mukilteo Chamber of Commerce is an organization dedicated to promoting business development and economic growth in the greater Mukilteo area. \nUpdated: Read our blog post from the event here. \nInterested in having a topic like this one being presented to your group? Simply send an email to info@talkmedia.co with the name of the topic that you were interested in and we will be in touch.
URL:https://talkmedia.co/event/new-social-media-tips-autumn-2016/
LOCATION:Mukilteo Chamber of Commerce\, 4902 76th St. SW\, Mukilteo\, WA\, 98275\, United States
END:VEVENT
BEGIN:VEVENT
DTSTART;TZID=UTC:20160921T180000
DTEND;TZID=UTC:20160921T203000
DTSTAMP:20260424T205609
CREATED:20160907T023122Z
LAST-MODIFIED:20160907T023122Z
UID:382-1474480800-1474489800@talkmedia.co
SUMMARY:Social Media For Greater Visibility
DESCRIPTION:We’re honored to present about social media at the Institute of Management Accountants – Greater Seattle Chapter! \nThe Internet has changed the way we communicate and do business. To be successful\, accounting and CPA firms must be strategically positioned online. In this interactive and hands-on presentation\, we will cover creative and actionable ways to harness the power of social media for greater visibility. \n\nABOUT THIS GROUP \nThe Institute of Management Accountants (IMA) Greater Seattle Chapter is dedicated to educating and assisting the professional development of management accounting\, financial management and related business professionals. We offer presentations by excellent keynote speakers\, plus provide opportunities to share information and explore industry issues\, problems and solutions. \nFind them on LinkedIn. \nInterested in having a topic like this one being presented to your group? Simply send an email to info@talkmedia.co with the name of the topic that you were interested in and we will be in touch.
URL:https://talkmedia.co/event/social-media-marketing-accounting-cpa-firms/
LOCATION:Coast Bellevue Hotel\, 625 116th Ave NE\, Bellevue\, WA\, 98004\, United States
END:VEVENT
BEGIN:VEVENT
DTSTART;TZID=UTC:20160623T113000
DTEND;TZID=UTC:20160623T130000
DTSTAMP:20260424T205609
CREATED:20160105T061823Z
LAST-MODIFIED:20210227T075803Z
UID:366-1466681400-1466686800@talkmedia.co
SUMMARY:Quick Ways to Leverage Social Media For Business
DESCRIPTION:We will be facilitating a Lunch & Learn discussion about quick ways to leverage social media for business owners and marketing professionals! \nSpecifically: \n\nTips & tricks to increase engagement\,\nways to delegate\,\nbudget-friendly tools\,\nand other creative ways to help your business grow faster.\n\nAll are welcome. Bring plenty of business cards and your smartphone or tablet for the small breakout group. \nThe Mukilteo Chamber of Commerce is an organization dedicated to promoting business development and economic growth in the greater Mukilteo area. \nInterested in having a topic like this one being presented to your group? Simply send an email to info@talkmedia.co with the name of the topic that you were interested in and we will be in touch.
URL:https://talkmedia.co/event/quick-ways-to-leverage-social-media-for-business-2/
LOCATION:Mukilteo Chamber of Commerce\, 4902 76th St. SW\, Mukilteo\, WA\, 98275\, United States
END:VEVENT
BEGIN:VEVENT
DTSTART;TZID=UTC:20160616T113000
DTEND;TZID=UTC:20160616T130000
DTSTAMP:20260424T205609
CREATED:20160421T194415Z
LAST-MODIFIED:20160421T194415Z
UID:373-1466076600-1466082000@talkmedia.co
SUMMARY:Quick Ways to Leverage Social Media For Business
DESCRIPTION:We will be talking to the Mountlake Terrace Business Association about quick ways to leverage social media for small business owners and marketing professionals! \nSpecifically: \n\nWhere to start\,\nways to delegate\,\nbudget-friendly tools\,\nand other creative ways to help your business grow faster.\n\nAll are welcome. Bring plenty of business cards and any promotional items you may have. \nThe mission of the MLTBA is to help the City of Mountlake Terrace prosper by supporting businesses\, bringing meaningful events and activities to the city\, as well as giving back to the community that supports us and our businesses. Connect with the Mountlake Terrace Business Association on Facebook here. \nInterested in having a topic like this one being presented to your group? Simply send an email to info@talkmedia.co with the name of the topic that you were interested in and we will be in touch.
URL:https://talkmedia.co/event/quick-ways-leverage-social-media-business-3/
LOCATION:Mountlake Terrace Library\, 23300 58th Ave W\, Mountlake Terrace\, 98043
END:VEVENT
BEGIN:VEVENT
DTSTART;TZID=UTC:20160519T073000
DTEND;TZID=UTC:20160519T090000
DTSTAMP:20260424T205609
CREATED:20151210T151053Z
LAST-MODIFIED:20210227T075638Z
UID:360-1463643000-1463648400@talkmedia.co
SUMMARY:Common Social Media Myths for Business
DESCRIPTION:We will be talking at the Mukilteo Chamber breakfast about the most common myths we hear for businesses using social media! \nSpecifically: \n\nOne-Way Communication\,\nBeing Everywhere at Once\,\nSelling Yourself Short\,\nand more.\n\nAll are welcome. Bring plenty of business cards and a few “happy bucks” for the raffle. \nThe Mukilteo Chamber of Commerce is an organization dedicated to promoting business development and economic growth in the greater Mukilteo area. \nInterested in having a topic like this one being presented to your group? Simply send an email to info@talkmedia.co with the name of the topic that you were interested in and we will be in touch.
URL:https://talkmedia.co/event/common-social-media-myths-for-business/
LOCATION:WA
END:VEVENT
BEGIN:VEVENT
DTSTART;TZID=UTC:20160225T113000
DTEND;TZID=UTC:20160225T130000
DTSTAMP:20260424T205609
CREATED:20160105T060111Z
LAST-MODIFIED:20210227T075708Z
UID:365-1456399800-1456405200@talkmedia.co
SUMMARY:Facebook Marketing - Goals & Insights
DESCRIPTION:We will be facilitating a Facebook marketing workshop Lunch & Learn discussion about leveraging Facebook Insights for small business owners and marketing professionals! \nSpecifically: \n\nSetting social media marketing goals\,\nchoosing the right metrics to track results\,\napplying Facebook Advertising\,\nand other creative ways to help your business grow.\n\nAll are welcome. Bring plenty of business cards and your smartphone\, laptop or tablet for the small breakout group. \nThe Mukilteo Chamber of Commerce is an organization dedicated to promoting business development and economic growth in the greater Mukilteo area. \nInterested in having a topic like this one being presented to your group? Simply send an email to info@talkmedia.co with the name of the topic that you were interested in and we will be in touch.
URL:https://talkmedia.co/event/facebook-marketing-goals-insights/
LOCATION:Mukilteo Chamber of Commerce\, 4902 76th St. SW\, Mukilteo\, WA\, 98275\, United States
END:VEVENT
BEGIN:VEVENT
DTSTART;TZID=UTC:20150925T080000
DTEND;TZID=UTC:20150925T093000
DTSTAMP:20260424T205609
CREATED:20150817T023702Z
LAST-MODIFIED:20150817T023702Z
UID:342-1443168000-1443173400@talkmedia.co
SUMMARY:Facebook Insights Mastermind Discussion
DESCRIPTION:We will be facilitating a mastermind discussion about Facebook Insights for small business owners! \nSpecifically: \n\nWays to approach new features\,\nchoosing the right metrics\,\nand other ways we can help your business grow.\n\nAll are welcome. No RSVP required. Bring plenty of business cards! \nRead more about Mike and Talk Media here. \nInterested in having a topic like this one being presented to your group? Simply send an email to info@talkmedia.co with the name of the topic that you were interested in and we will be in touch.
URL:https://talkmedia.co/event/facebook-insights-mastermind-discussion/
LOCATION:WA
END:VEVENT
BEGIN:VEVENT
DTSTART;TZID=UTC:20150729T080000
DTEND;TZID=UTC:20150729T093000
DTSTAMP:20260424T205609
CREATED:20150720T185151Z
LAST-MODIFIED:20150720T185151Z
UID:338-1438156800-1438162200@talkmedia.co
SUMMARY:Facebook & LinkedIn Mastermind Discussion
DESCRIPTION:We will be facilitating a mastermind discussion about Facebook and LinkedIn marketing for small business owners! \nSpecifically: \n\nWays to approach these two tools\,\nnew features\,\nand other ways we can help your business grow.\n\nAll are welcome. No RSVP required. Bring plenty of business cards! \nInterested in having a topic like this one being presented to your group? Simply send an email to info@talkmedia.co with the name of the topic that you were interested in and we will be in touch.
URL:https://talkmedia.co/event/facebook-linkedin-mastermind-discussion/
LOCATION:Courtyard Marriott Hotel – Kirkland\, 11215 NE 124th St\, Kirkland\, WA\, 98034\, United States
END:VEVENT
BEGIN:VEVENT
DTSTART;TZID=UTC:20150715T103000
DTEND;TZID=UTC:20150715T113000
DTSTAMP:20260424T205609
CREATED:20150614T044317Z
LAST-MODIFIED:20210227T075559Z
UID:330-1436956200-1436959800@talkmedia.co
SUMMARY:5 Top Common Social Media Myths
DESCRIPTION:We’re excited to be back at the Mukilteo networking group to present about social media! We will be talking about the top five common social media myths for small business owners! \nSpecifically: \n\nNot having the time for social media\,\nnot having anything interesting to say\,\ntrying it once but not seeing results\,\nsaving time by posting to all sites in one click\,\nand not having customers who use social media.\n\nBe prepared to give a 30 second commercial about your business and bring at least 25 business cards. \nThe Mukilteo Chamber of Commerce is an organization dedicated to promoting business development and economic growth in the greater Mukilteo area. \nInterested in having a topic like this one being presented to your group? Simply send an email to info@talkmedia.co with the name of the topic that you were interested in and we will be in touch.
URL:https://talkmedia.co/event/5-top-common-social-media-myths/
LOCATION:Mukilteo Chamber of Commerce\, 4902 76th St. SW\, Mukilteo\, WA\, 98275\, United States
END:VEVENT
BEGIN:VEVENT
DTSTART;TZID=UTC:20150618T073000
DTEND;TZID=UTC:20150618T090000
DTSTAMP:20260424T205609
CREATED:20150614T043252Z
LAST-MODIFIED:20150614T043252Z
UID:327-1434612600-1434618000@talkmedia.co
SUMMARY:Quick Ways to Leverage Social Media For Business
DESCRIPTION:We will be talking at the Bothell Chamber breakfast about quick ways to leverage social media for small business owners! \nSpecifically: \n\nTips and tricks for Facebook and LinkedIn\,\nTips and tricks for Twitter and Google+\,\nand more.\n\nAll are welcome. No RSVP required. Bring plenty of business cards. \nThe Greater Bothell Chamber of Commerce is the official chamber for the cities of Bothell and Kenmore\, and is the in-person Visitor Center for the city of Bothell. They are an independent non-profit membership-based organization connecting business and community through a united voice and promoting regional economic prosperity. \nInterested in having a topic like this one being presented to your group? Simply send an email to info@talkmedia.co with the name of the topic that you were interested in and we will be in touch.
URL:https://talkmedia.co/event/quick-ways-to-leverage-social-media-for-business/
LOCATION:Northshore Senior Center\, 10201 E. Riverside Drive\, Bothell\, WA\, 98011\, United States
END:VEVENT
BEGIN:VEVENT
DTSTART;TZID=UTC:20150423T113000
DTEND;TZID=UTC:20150423T130000
DTSTAMP:20260424T205609
CREATED:20150106T093540Z
LAST-MODIFIED:20210227T075513Z
UID:264-1429788600-1429794000@talkmedia.co
SUMMARY:To Tweet Or Not to Tweet - Twitter For Business
DESCRIPTION:We will be talking about Twitter marketing for small business owners! \nSpecifically: \n\nExplaining Twitter\,\nwhat makes for a good profile\,\nhow often to tweet\,\nand other tips and tricks.\n\nTo reserve your spot call (425) 347-1456 or email kim@mukilteochamber.org \n$10 members/$15 non-members to cover the cost of lunch. \nInterested in having a topic like this one being presented to your group? Simply send an email to info@talkmedia.co with the name of the topic that you were interested in and we will be in touch.
URL:https://talkmedia.co/event/tweet-not-tweet-twitter-business/
LOCATION:Mukilteo Chamber of Commerce\, 4902 76th St. SW\, Mukilteo\, WA\, 98275\, United States
END:VEVENT
BEGIN:VEVENT
DTSTART;TZID=UTC:20150422T103000
DTEND;TZID=UTC:20150422T113000
DTSTAMP:20260424T205609
CREATED:20150409T202805Z
LAST-MODIFIED:20150409T202805Z
UID:321-1429698600-1429702200@talkmedia.co
SUMMARY:Top Six Social Media Questions and Answers
DESCRIPTION:We will be talking about the top six social media questions we receive and their respective answers! \nSpecifically: \n\nHow often should I post?\nWhat is the difference between Facebook\, Twitter\, and LinkedIn?\nCan you set me up with a Facebook page?\nIsn’t LinkedIn just for job seekers?\nWhat is the ROI of social media?\nWhat social media sites should I use?\n\nBe prepared to give a 30 second commercial about your business and at least 25 business cards. \nInterested in having a topic like this one being presented to your group? Simply send an email to info@talkmedia.co with the name of the topic that you were interested in and we will be in touch.
URL:https://talkmedia.co/event/top-six-social-media-questions-and-answers/
LOCATION:Mukilteo Chamber of Commerce\, 4902 76th St. SW\, Mukilteo\, WA\, 98275\, United States
END:VEVENT
BEGIN:VEVENT
DTSTART;TZID=UTC:20150403T103000
DTEND;TZID=UTC:20150403T123000
DTSTAMP:20260424T205609
CREATED:20150315T065858Z
LAST-MODIFIED:20150315T065858Z
UID:310-1428057000-1428064200@talkmedia.co
SUMMARY:LinkedIn Spring Cleaning Tips
DESCRIPTION:We will be talking to this great group about tips for spring cleaning your LinkedIn profiles! \nSpecifically: \n\nHow to represent your profile to be found\,\na process for building relationships\,\nand tools for staying on top of it!\n\nNET-WORTH NETWORKING is a monthly event in downtown Bellevue. “Stay connected with past attendees here. Share your self-worth and net-worth building tips here. We welcome you to this supportive community of women learning to grow personally and financially through education and support of each other.” \nInterested in having a topic like this one being presented to your group? Simply send an email to info@talkmedia.co with the name of the topic that you were interested in and we will be in touch.
URL:https://talkmedia.co/event/linkedin-spring-cleaning-tips/
LOCATION:Bellefield Office Park\, 1150 114th Ave SE\, Bellevue\, WA\, 98004\, United States
END:VEVENT
BEGIN:VEVENT
DTSTART;TZID=UTC:20150318T080000
DTEND;TZID=UTC:20150318T093000
DTSTAMP:20260424T205609
CREATED:20150317T004015Z
LAST-MODIFIED:20150317T004015Z
UID:313-1426665600-1426671000@talkmedia.co
SUMMARY:To Tweet Or Not to Tweet – Twitter For Business
DESCRIPTION:We will be talking about Twitter marketing for small business owners! \nSpecifically: \n\nExplaining Twitter\,\nwhat makes for a good profile\,\nhow often to tweet\,\nand other tips and tricks.\n\nInterested in having a topic like this one being presented to your group? Simply send an email to info@talkmedia.co with the name of the topic that you were interested in and we will be in touch.
URL:https://talkmedia.co/event/to-tweet-or-not-to-tweet-twitter-for-business/
LOCATION:Courtyard Marriott Hotel – Kirkland\, 11215 NE 124th St\, Kirkland\, WA\, 98034\, United States
END:VEVENT
BEGIN:VEVENT
DTSTART;TZID=UTC:20150311T080000
DTEND;TZID=UTC:20150311T093000
DTSTAMP:20260424T205609
CREATED:20150203T202937Z
LAST-MODIFIED:20150203T202937Z
UID:285-1426060800-1426066200@talkmedia.co
SUMMARY:To Tweet Or Not to Tweet – Twitter For Business
DESCRIPTION:We will be talking about Twitter marketing for small business owners! \nSpecifically: \n\nExplaining Twitter\,\nwhat makes for a good profile\,\nhow often to tweet\,\nand other tips and tricks.\n\nInterested in having a topic like this one being presented to your group? Simply send an email to info@talkmedia.co with the name of the topic that you were interested in and we will be in touch.
URL:https://talkmedia.co/event/tweet-not-tweet-twitter-business-3/
LOCATION:Courtyard Marriott Hotel – Kirkland\, 11215 NE 124th St\, Kirkland\, WA\, 98034\, United States
END:VEVENT
BEGIN:VEVENT
DTSTART;TZID=UTC:20150305T080000
DTEND;TZID=UTC:20150305T093000
DTSTAMP:20260424T205609
CREATED:20150203T202359Z
LAST-MODIFIED:20150203T202359Z
UID:282-1425542400-1425547800@talkmedia.co
SUMMARY:To Tweet Or Not to Tweet – Twitter For Business
DESCRIPTION:We will be talking about Twitter marketing for small business owners! \nSpecifically: \n\nExplaining Twitter\,\nwhat makes for a good profile\,\nhow often to tweet\,\nand other tips and tricks.\n\nInterested in having a topic like this one being presented to your group? Simply send an email to info@talkmedia.co with the name of the topic that you were interested in and we will be in touch.
URL:https://talkmedia.co/event/tweet-not-tweet-twitter-business-2/
LOCATION:The Issaquah Holiday Inn\, 1801 12TH AVENUE NW\, Issaquah\, WA\, 98027\, United States
END:VEVENT
BEGIN:VEVENT
DTSTART;TZID=UTC:20150224T080000
DTEND;TZID=UTC:20150224T093000
DTSTAMP:20260424T205609
CREATED:20150129T004327Z
LAST-MODIFIED:20150129T004327Z
UID:280-1424764800-1424770200@talkmedia.co
SUMMARY:How to Leverage The EBA LinkedIn Group
DESCRIPTION:We’ll be talking about ways to leverage the Eastside Business Association LinkedIn Group! \nSpecifically: \n\nWhat to share in updates and how to engage\,\na follow up on LinkedIn mobile apps from our last talk\,\nand some best practices for leveraging LinkedIn Groups from your industry.\n\nInterested in having a topic like this one being presented to your group? Simply send an email to info@talkmedia.co with the name of the topic that you were interested in and we will be in touch.
URL:https://talkmedia.co/event/leverage-eba-linkedin-group/
LOCATION:Brew Bothell
END:VEVENT
BEGIN:VEVENT
DTSTART;TZID=UTC:20150203T073000
DTEND;TZID=UTC:20150203T090000
DTSTAMP:20260424T205609
CREATED:20150124T233436Z
LAST-MODIFIED:20150124T233436Z
UID:276-1422948600-1422954000@talkmedia.co
SUMMARY:Facebook Marketing Basics
DESCRIPTION:We will be talking about Facebook Marketing Basics! \nSpecifically: \n\nThe difference between a business page and profile\,\nhow to reach your customers organically\,\nand answering all of your questions!\n\nInterested in having a topic like this one being presented to your group? Simply send an email to info@talkmedia.co with the name of the topic that you were interested in and we will be in touch.
URL:https://talkmedia.co/event/facebook-marketing-basics-2/
LOCATION:WA
END:VEVENT
BEGIN:VEVENT
DTSTART;TZID=UTC:20150121T093000
DTEND;TZID=UTC:20150121T110000
DTSTAMP:20260424T205609
CREATED:20150109T180841Z
LAST-MODIFIED:20150109T180841Z
UID:268-1421832600-1421838000@talkmedia.co
SUMMARY:LinkedIn Small Business Tips for 2015 Part Two
DESCRIPTION:We will be talking about LinkedIn marketing for small business owners! \nSpecifically: \n\nHow to represent your profile to be found\,\nthe difference between update and publish\,\nand an overview of LinkedIn’s latest mobile apps.\n\nInterested in having a topic like this one being presented to your group? Simply send an email to info@talkmedia.co with the name of the topic that you were interested in and we will be in touch.
URL:https://talkmedia.co/event/linkedin-small-business-tips-2015-part-two/
LOCATION:Brew Bothell
END:VEVENT
BEGIN:VEVENT
DTSTART;TZID=UTC:20150106T080000
DTEND;TZID=UTC:20150106T093000
DTSTAMP:20260424T205609
CREATED:20141210T102258Z
LAST-MODIFIED:20141210T102258Z
UID:226-1420531200-1420536600@talkmedia.co
SUMMARY:LinkedIn Small Business Tips for 2015
DESCRIPTION:We will be talking about LinkedIn marketing for small business owners! \nSpecifically: \n\nHow to represent your profile to be found\,\nthe difference between update and publish\,\nand an overview of LinkedIn’s latest mobile apps.\n\nInterested in having a topic like this one being presented to your group? Simply send an email to info@talkmedia.co with the name of the topic that you were interested in and we will be in touch.
URL:https://talkmedia.co/event/linkedin-small-business-tips-2015/
LOCATION:Brew Bothell
END:VEVENT
BEGIN:VEVENT
DTSTART;TZID=UTC:20141110T183000
DTEND;TZID=UTC:20141110T200000
DTSTAMP:20260424T205609
CREATED:20141013T181941Z
LAST-MODIFIED:20141013T181941Z
UID:160-1415644200-1415649600@talkmedia.co
SUMMARY:Facebook Marketing Basics
DESCRIPTION:We will be talking about Facebook Marketing Basics! \nSpecifically: \n\nWhat’s the difference between a business page and profile\,\nhow to reach customers organically\,\nand whether or not you should be using Facebook ads.\n\nInterested in having a topic like this one being presented to your group? Simply send an email to info@talkmedia.co with the name of the topic that you were interested in and we will be in touch.
URL:https://talkmedia.co/event/facebook-marketing-basics/
LOCATION:WA
END:VEVENT
END:VCALENDAR